BEGIN:VCALENDAR
VERSION:2.0
PRODID:-//eventon.com NONSGML v1.0//EN
BEGIN:VEVENT
UID:69e6c3f3bc62c
DTSTAMP:20260421T022523
DTSTART:20220603
DTEND:20220604
TZID:Europe/Paris
LOCATION:Saint-André-d&#039;Huiriat 01290 Saint-André-d'Huiriat
SUMMARY:ESA Challenge
DESCRIPTION: L&rsquo;ESA Challenge est une course d&rsquo;obstacle en solo ou en duo pour les ados et adultes dans l&rsquo;Ain à Saint-André-d&rsquo;Huiriat. 5 possibilités de course pour cette journée du 4 juin 2022 : Duo Jeunes sans classement &#8211; 3\, 6 km Duo Femmes &#8211; 7\, 2 km Duo Hommes &#8211; 7\, 2 km Solo[..]\nhttps://www.obstacle-mag.com/events/esa-challenge/
URL:https://www.obstacle-mag.com/events/esa-challenge/
END:VEVENT
END:VCALENDAR