BEGIN:VCALENDAR
VERSION:2.0
PRODID:-//eventon.com NONSGML v1.0//EN
BEGIN:VEVENT
UID:69e4d07023098
DTSTAMP:20260419T145408
DTSTART:20200821
DTEND:20200821
TZID:UTC
LOCATION:Palais des Sports et des Congrès 502 route du palais des sports 74110 Morzine
SUMMARY:Spartan Race Morzine Ultra Beast
DESCRIPTION: Morzine Trifecta Weekend n&rsquo;est pas une course comme les autres. Morzine est l&rsquo;une des déstination les plus exigeante. Tu dois être prêt à évoluer dans des conditions difficiles\,  en montagne avec des changements de températures. La Spartan Race Sprint : Il s&rsquo;agit de la plus courte distance. Elle est adaptée[..]\nhttps://www.obstacle-mag.com/events/spartan-race-morzine-ultra-beast-2020/
URL:https://www.obstacle-mag.com/events/spartan-race-morzine-ultra-beast-2020/
END:VEVENT
END:VCALENDAR