BEGIN:VCALENDAR
VERSION:2.0
PRODID:-//eventon.com NONSGML v1.0//EN
BEGIN:VEVENT
UID:69e4c8ea5b944
DTSTAMP:20260419T142202
DTSTART:20210611
DTEND:20210613
TZID:Europe/Paris
LOCATION:Grau Roig Andorre
SUMMARY:Spartan Race Andorre Kids
DESCRIPTION: Spartan Kids est une série de courses d&rsquo;obstacles &#8211; allant de 800 m à 3\, 2 km &#8211; spécialement conçues pour amener vos enfants (âgés de 4 à 14 ans) à l&rsquo;extérieur\,  à se sentir accomplis et à s&rsquo;amuser. Ils courent\,  sautent et se frayent un chemin à travers les obstacles\, [..]\nhttps://www.obstacle-mag.com/events/spartan-race-andorre-kids-2021/
URL:https://www.obstacle-mag.com/events/spartan-race-andorre-kids-2021/
END:VEVENT
END:VCALENDAR