BEGIN:VCALENDAR
VERSION:2.0
PRODID:-//eventon.com NONSGML v1.0//EN
BEGIN:VEVENT
UID:69e7b2f914834
DTSTAMP:20260421T192513
DTSTART:20170408
DTEND:20170408
TZID:UTC
LOCATION:Capendu 11700 Capendu
SUMMARY:La Folle Furieuse Capendu "Kids"
DESCRIPTION: Parc ludique de motricité de 300 à 500m au village départ\,  en accès illimité\,  sous forme de parcours à obstacles non chronométré et sans classement\,  sous la surveillance et motivation des parents pour enfants de 3 à 5 ans et par vagues de 30 enfants. Accès illimité sur inscription web[..]\nhttps://www.obstacle-mag.com/events/la-folle-furieuse-capendu-kids/
URL:https://www.obstacle-mag.com/events/la-folle-furieuse-capendu-kids/
END:VEVENT
END:VCALENDAR