BEGIN:VCALENDAR
VERSION:2.0
PRODID:-//eventon.com NONSGML v1.0//EN
BEGIN:VEVENT
UID:69e5fb469ebd0
DTSTAMP:20260420T120910
DTSTART:20171022
DTEND:20171022
TZID:UTC
LOCATION:Hyères 83400 Hyères
SUMMARY:Chuong Race
DESCRIPTION: La Chuong Race est une course d’obstacles\,  mélangeant Arts Martiaux\,  course à pied et obstacles en tout genre. Nous souhaitons développer au cours de cette course vos performances dans un esprit de bienveillance. Nous désirons vous apporter les clés du succès du sportif d’aujourd’hui. De l’endurance\,  de la cohésion dans[..]\nhttps://www.obstacle-mag.com/events/chuong-race-2/
URL:https://www.obstacle-mag.com/events/chuong-race-2/
END:VEVENT
END:VCALENDAR